BEGIN:VCALENDAR
VERSION:2.0
PRODID:-//ADEC - ECPv6.15.20//NONSGML v1.0//EN
CALSCALE:GREGORIAN
METHOD:PUBLISH
X-WR-CALNAME:ADEC
X-ORIGINAL-URL:https://adecinc.com
X-WR-CALDESC:Events for ADEC
REFRESH-INTERVAL;VALUE=DURATION:PT1H
X-Robots-Tag:noindex
X-PUBLISHED-TTL:PT1H
BEGIN:VTIMEZONE
TZID:America/Indiana/Indianapolis
BEGIN:DAYLIGHT
TZOFFSETFROM:-0500
TZOFFSETTO:-0400
TZNAME:EDT
DTSTART:20240310T070000
END:DAYLIGHT
BEGIN:STANDARD
TZOFFSETFROM:-0400
TZOFFSETTO:-0500
TZNAME:EST
DTSTART:20241103T060000
END:STANDARD
BEGIN:DAYLIGHT
TZOFFSETFROM:-0500
TZOFFSETTO:-0400
TZNAME:EDT
DTSTART:20250309T070000
END:DAYLIGHT
BEGIN:STANDARD
TZOFFSETFROM:-0400
TZOFFSETTO:-0500
TZNAME:EST
DTSTART:20251102T060000
END:STANDARD
BEGIN:DAYLIGHT
TZOFFSETFROM:-0500
TZOFFSETTO:-0400
TZNAME:EDT
DTSTART:20260308T070000
END:DAYLIGHT
BEGIN:STANDARD
TZOFFSETFROM:-0400
TZOFFSETTO:-0500
TZNAME:EST
DTSTART:20261101T060000
END:STANDARD
END:VTIMEZONE
BEGIN:VEVENT
DTSTART;TZID=America/Indiana/Indianapolis:20250915T110000
DTEND;TZID=America/Indiana/Indianapolis:20250915T220000
DTSTAMP:20260423T075827
CREATED:20251001T143055Z
LAST-MODIFIED:20251001T143210Z
UID:10000140-1757934000-1757973600@adecinc.com
SUMMARY:Hacienda Give Back Fiesta
DESCRIPTION:GET READY FOR TACOS AND GUAC!\nThe Erskine Village Hacienda in South Bend is doing a giveback day for ADEC on Monday\, September 15th!\nEnjoy a meal at the restaurant or order carry-out\, and 20% of each bill will be donated directly to ADEC’s programming.\nJust make sure to show your waitstaff a token when paying your bill or mention that you are dining to support ADEC.\nTokens can be used via a physical or digital copy and are attached here: https://adecinc.com/…/2025/09/Hacienda-Giveback-Tokens.pdf
URL:https://adecinc.com/event/hacienda-give-back-fiesta/
LOCATION:Hacienda\, 4650 Miami Street\, South Bend\, 46614\, United States
CATEGORIES:ADEC
ATTACH;FMTTYPE=image/png:https://adecinc.com/wp-content/uploads/2025/10/Website-Event-Page-Featured-Images.png
ORGANIZER;CN="ADEC":MAILTO:info@adecinc.com
END:VEVENT
BEGIN:VEVENT
DTSTART;TZID=America/Indiana/Indianapolis:20250913T090000
DTEND;TZID=America/Indiana/Indianapolis:20250913T140000
DTSTAMP:20260423T075827
CREATED:20250821T152135Z
LAST-MODIFIED:20250909T160541Z
UID:10000126-1757754000-1757772000@adecinc.com
SUMMARY:4th Annual Craft Bazaar
DESCRIPTION:ADEC is hosting the 4th annual Craft Bazaar to celebrate creativity\, empower abilities\, and build community!\n\nEnjoy family-friendly activities\nShop from a variety of vendors\nEnter to win vendor giveaways\nEnjoy music by Froggy 102.7 live\nGrab a beverage from Gaining Grounds Coffee House\nTry some delicious snacks from food trucks\nWitness the reveal of ADEC’s 2025 t-shirt design\n\nLearn More at www.adecinc.com/2025-craft-bazaar/
URL:https://adecinc.com/event/4th-annual-craft-bazaar/
LOCATION:IN
CATEGORIES:Gaining Grounds
ATTACH;FMTTYPE=image/png:https://adecinc.com/wp-content/uploads/2025/08/Untitled-design-2-1.png
ORGANIZER;CN="ADEC":MAILTO:info@adecinc.com
END:VEVENT
BEGIN:VEVENT
DTSTART;TZID=America/Indiana/Indianapolis:20250823T090000
DTEND;TZID=America/Indiana/Indianapolis:20250823T123000
DTSTAMP:20260423T075827
CREATED:20250821T125112Z
LAST-MODIFIED:20250821T150909Z
UID:10000125-1755939600-1755952200@adecinc.com
SUMMARY:Ride A Bike
DESCRIPTION:Come Ride-A-Bike and make lasting memories alongside your neighbors with disabilities during ADEC’s largest fundraising event!\n\nThis year’s event will feature bike rides ranging from 1 to 50 miles in length\, walking paths\, games\, prizes\, food trucks\, and live music from Froggy 102.7—plus plenty of fun activities for all ages! Whether you choose to ride\, walk\, run\, or cheer from the sidelines\, your participation directly supports the individuals we serve at ADEC.\nFor nearly five decades\, the community has partnered with ADEC to support individuals with disabilities during the cherished tradition of Ride-A-Bike by participating\, fundraising\, and volunteering. Marking the event’s 49th year\, we encourage our community to continue participating alongside our neighbors with disabilities to raise funds for vital services\, with a focus on health and well-being.\n\n\nVisit www.adecinc.com/rab2025 to learn more\, get registered\, and start fundraising!
URL:https://adecinc.com/event/ride-a-bike/
LOCATION:Ox Bow County Park\, 23033 Co Rd 45\, Goshen\, IN\, 46528\, United States
CATEGORIES:ADEC
ATTACH;FMTTYPE=image/png:https://adecinc.com/wp-content/uploads/2025/08/Untitled-design-1-2.png
ORGANIZER;CN="ADEC":MAILTO:info@adecinc.com
END:VEVENT
END:VCALENDAR