BEGIN:VCALENDAR
VERSION:2.0
PRODID:-//ADEC - ECPv6.15.20//NONSGML v1.0//EN
CALSCALE:GREGORIAN
METHOD:PUBLISH
X-ORIGINAL-URL:https://adecinc.com
X-WR-CALDESC:Events for ADEC
REFRESH-INTERVAL;VALUE=DURATION:PT1H
X-Robots-Tag:noindex
X-PUBLISHED-TTL:PT1H
BEGIN:VTIMEZONE
TZID:America/Indiana/Indianapolis
BEGIN:DAYLIGHT
TZOFFSETFROM:-0500
TZOFFSETTO:-0400
TZNAME:EDT
DTSTART:20240310T070000
END:DAYLIGHT
BEGIN:STANDARD
TZOFFSETFROM:-0400
TZOFFSETTO:-0500
TZNAME:EST
DTSTART:20241103T060000
END:STANDARD
BEGIN:DAYLIGHT
TZOFFSETFROM:-0500
TZOFFSETTO:-0400
TZNAME:EDT
DTSTART:20250309T070000
END:DAYLIGHT
BEGIN:STANDARD
TZOFFSETFROM:-0400
TZOFFSETTO:-0500
TZNAME:EST
DTSTART:20251102T060000
END:STANDARD
BEGIN:DAYLIGHT
TZOFFSETFROM:-0500
TZOFFSETTO:-0400
TZNAME:EDT
DTSTART:20260308T070000
END:DAYLIGHT
BEGIN:STANDARD
TZOFFSETFROM:-0400
TZOFFSETTO:-0500
TZNAME:EST
DTSTART:20261101T060000
END:STANDARD
END:VTIMEZONE
BEGIN:VEVENT
DTSTART;TZID=America/Indiana/Indianapolis:20251013T160000
DTEND;TZID=America/Indiana/Indianapolis:20251013T220000
DTSTAMP:20260423T061257
CREATED:20251001T144803Z
LAST-MODIFIED:20251001T144804Z
UID:10000141-1760371200-1760392800@adecinc.com
SUMMARY:Dine to Donate at Texas Roadhouse
DESCRIPTION:Join us on October 13th at Texas Roadhouse in Elkhart for a ‘Dine to Donate’ evening to support ADEC! Texas Roadhouse will donate 10% of your total food purchases\, whether dine-in or to-go\, to ADEC upon showing your server our Dine to Donate Flyer! The flyer is linked below and can be found here.
URL:https://adecinc.com/event/dine-to-donate-at-texas-roadhouse/
LOCATION:Texas Roadhouse\, 3015 Brittany Court\, Elkhart\, Indiana\, 46514\, United States
CATEGORIES:ADEC
ATTACH;FMTTYPE=image/png:https://adecinc.com/wp-content/uploads/2025/10/Website-Event-Page-Featured-Images-1.png
ORGANIZER;CN="ADEC":MAILTO:info@adecinc.com
END:VEVENT
END:VCALENDAR