BEGIN:VCALENDAR
VERSION:2.0
PRODID:-//ADEC - ECPv6.15.20//NONSGML v1.0//EN
CALSCALE:GREGORIAN
METHOD:PUBLISH
X-WR-CALNAME:ADEC
X-ORIGINAL-URL:https://adecinc.com
X-WR-CALDESC:Events for ADEC
REFRESH-INTERVAL;VALUE=DURATION:PT1H
X-Robots-Tag:noindex
X-PUBLISHED-TTL:PT1H
BEGIN:VTIMEZONE
TZID:America/Indiana/Indianapolis
BEGIN:DAYLIGHT
TZOFFSETFROM:-0500
TZOFFSETTO:-0400
TZNAME:EDT
DTSTART:20240310T070000
END:DAYLIGHT
BEGIN:STANDARD
TZOFFSETFROM:-0400
TZOFFSETTO:-0500
TZNAME:EST
DTSTART:20241103T060000
END:STANDARD
BEGIN:DAYLIGHT
TZOFFSETFROM:-0500
TZOFFSETTO:-0400
TZNAME:EDT
DTSTART:20250309T070000
END:DAYLIGHT
BEGIN:STANDARD
TZOFFSETFROM:-0400
TZOFFSETTO:-0500
TZNAME:EST
DTSTART:20251102T060000
END:STANDARD
BEGIN:DAYLIGHT
TZOFFSETFROM:-0500
TZOFFSETTO:-0400
TZNAME:EDT
DTSTART:20260308T070000
END:DAYLIGHT
BEGIN:STANDARD
TZOFFSETFROM:-0400
TZOFFSETTO:-0500
TZNAME:EST
DTSTART:20261101T060000
END:STANDARD
END:VTIMEZONE
BEGIN:VEVENT
DTSTART;TZID=America/Indiana/Indianapolis:20250913T090000
DTEND;TZID=America/Indiana/Indianapolis:20250913T140000
DTSTAMP:20260423T070118
CREATED:20250821T152135Z
LAST-MODIFIED:20250909T160541Z
UID:10000126-1757754000-1757772000@adecinc.com
SUMMARY:4th Annual Craft Bazaar
DESCRIPTION:ADEC is hosting the 4th annual Craft Bazaar to celebrate creativity\, empower abilities\, and build community!\n\nEnjoy family-friendly activities\nShop from a variety of vendors\nEnter to win vendor giveaways\nEnjoy music by Froggy 102.7 live\nGrab a beverage from Gaining Grounds Coffee House\nTry some delicious snacks from food trucks\nWitness the reveal of ADEC’s 2025 t-shirt design\n\nLearn More at www.adecinc.com/2025-craft-bazaar/
URL:https://adecinc.com/event/4th-annual-craft-bazaar/
CATEGORIES:Gaining Grounds
ATTACH;FMTTYPE=image/png:https://adecinc.com/wp-content/uploads/2025/08/Untitled-design-2-1.png
ORGANIZER;CN="ADEC":MAILTO:info@adecinc.com
END:VEVENT
END:VCALENDAR