BEGIN:VCALENDAR
VERSION:2.0
PRODID:-//ADEC - ECPv6.15.20//NONSGML v1.0//EN
CALSCALE:GREGORIAN
METHOD:PUBLISH
X-WR-CALNAME:ADEC
X-ORIGINAL-URL:https://adecinc.com
X-WR-CALDESC:Events for ADEC
REFRESH-INTERVAL;VALUE=DURATION:PT1H
X-Robots-Tag:noindex
X-PUBLISHED-TTL:PT1H
BEGIN:VTIMEZONE
TZID:America/Indiana/Indianapolis
BEGIN:DAYLIGHT
TZOFFSETFROM:-0500
TZOFFSETTO:-0400
TZNAME:EDT
DTSTART:20250309T070000
END:DAYLIGHT
BEGIN:STANDARD
TZOFFSETFROM:-0400
TZOFFSETTO:-0500
TZNAME:EST
DTSTART:20251102T060000
END:STANDARD
BEGIN:DAYLIGHT
TZOFFSETFROM:-0500
TZOFFSETTO:-0400
TZNAME:EDT
DTSTART:20260308T070000
END:DAYLIGHT
BEGIN:STANDARD
TZOFFSETFROM:-0400
TZOFFSETTO:-0500
TZNAME:EST
DTSTART:20261101T060000
END:STANDARD
BEGIN:DAYLIGHT
TZOFFSETFROM:-0500
TZOFFSETTO:-0400
TZNAME:EDT
DTSTART:20270314T070000
END:DAYLIGHT
BEGIN:STANDARD
TZOFFSETFROM:-0400
TZOFFSETTO:-0500
TZNAME:EST
DTSTART:20271107T060000
END:STANDARD
END:VTIMEZONE
BEGIN:VEVENT
DTSTART;TZID=America/Indiana/Indianapolis:20260501T160000
DTEND;TZID=America/Indiana/Indianapolis:20260501T190000
DTSTAMP:20260422T192145
CREATED:20260409T125558Z
LAST-MODIFIED:20260409T125558Z
UID:10000145-1777651200-1777662000@adecinc.com
SUMMARY:May First Friday
DESCRIPTION:ADEC will be at the May First Friday event!  Swing by downtown Goshen\, visit the ADEC booth from 5pm – 8pm to color a page and/or decorate your own pot\, and join the celebration!\nWe can’t wait to see you there! \n\nLearn more about the event on Downtown Goshen’s website!
URL:https://adecinc.com/event/may-first-friday/
LOCATION:Downtown Goshen\, 324 South Fifth Street\, Goshen\, IN\, 46528\, United States
CATEGORIES:ADEC
ATTACH;FMTTYPE=image/png:https://adecinc.com/wp-content/uploads/2026/04/1.png
ORGANIZER;CN="ADEC":MAILTO:info@adecinc.com
END:VEVENT
END:VCALENDAR