BEGIN:VCALENDAR
VERSION:2.0
PRODID:-//ADEC - ECPv6.15.20//NONSGML v1.0//EN
CALSCALE:GREGORIAN
METHOD:PUBLISH
X-ORIGINAL-URL:https://adecinc.com
X-WR-CALDESC:Events for ADEC
REFRESH-INTERVAL;VALUE=DURATION:PT1H
X-Robots-Tag:noindex
X-PUBLISHED-TTL:PT1H
BEGIN:VTIMEZONE
TZID:America/Indiana/Indianapolis
BEGIN:DAYLIGHT
TZOFFSETFROM:-0500
TZOFFSETTO:-0400
TZNAME:EDT
DTSTART:20250309T070000
END:DAYLIGHT
BEGIN:STANDARD
TZOFFSETFROM:-0400
TZOFFSETTO:-0500
TZNAME:EST
DTSTART:20251102T060000
END:STANDARD
BEGIN:DAYLIGHT
TZOFFSETFROM:-0500
TZOFFSETTO:-0400
TZNAME:EDT
DTSTART:20260308T070000
END:DAYLIGHT
BEGIN:STANDARD
TZOFFSETFROM:-0400
TZOFFSETTO:-0500
TZNAME:EST
DTSTART:20261101T060000
END:STANDARD
BEGIN:DAYLIGHT
TZOFFSETFROM:-0500
TZOFFSETTO:-0400
TZNAME:EDT
DTSTART:20270314T070000
END:DAYLIGHT
BEGIN:STANDARD
TZOFFSETFROM:-0400
TZOFFSETTO:-0500
TZNAME:EST
DTSTART:20271107T060000
END:STANDARD
END:VTIMEZONE
BEGIN:VEVENT
DTSTART;TZID=America/Indiana/Indianapolis:20260225T180000
DTEND;TZID=America/Indiana/Indianapolis:20260225T200000
DTSTAMP:20260423T025056
CREATED:20251001T141808Z
LAST-MODIFIED:20251001T141809Z
UID:10000139-1772042400-1772049600@adecinc.com
SUMMARY:Silver Bullets Basketball Game
DESCRIPTION:Join us in celebrating the Silver Bullets this season as they continue to break down barriers\, inspire the community\, and showcase the incredible potential of all individuals\, regardless of their abilities. These games are open to the public\, allowing the community to come together\, cheer on the Silver Bullets\, and be inspired by their incredible spirit and sportsmanship. Games for the Silver Bullets will be held at the Tolson Center for Community Excellence on Wednesdays from 6:00 p.m. to 8:00 p.m. You can learn more about the Silver Bullets season and ways to get involved by visiting www.adecinc.com/get-involved/silver-bullets-basketball/.
URL:https://adecinc.com/event/silver-bullets-basketball-game/2026-02-25/
LOCATION:The Tolson Center for Community Excellence\, 1320 Benham Ave\, Elkhart\, 46516\, United States
CATEGORIES:Silver Bullets
ATTACH;FMTTYPE=image/png:https://adecinc.com/wp-content/uploads/2025/10/Untitled-design-1.png
ORGANIZER;CN="ADEC":MAILTO:info@adecinc.com
END:VEVENT
END:VCALENDAR